BEGIN:VCALENDAR
VERSION:2.0
PRODID:-//ChamberMaster//Event Calendar 2.0//EN
METHOD:PUBLISH
X-PUBLISHED-TTL:P3D
REFRESH-INTERVAL:P3D
CALSCALE:GREGORIAN
BEGIN:VEVENT
DTSTART:20260520T140000Z
DTEND:20260520T170000Z
X-MICROSOFT-CDO-ALLDAYEVENT:FALSE
SUMMARY:15 MINUTES with your MP\, Chris Malette
DESCRIPTION:CHAMBER ACCESS SERIES:  One-on-One with MP Chris Malette\n\nAre federal trade policies\, tariffs\, workforce shortages\, or rising costs impacting your business? This is your direct line to Ottawa.\n\nAs part of the Chamber Access Series\, members are invited to participate in a 15 minute one on one conversation with Bay of Quinte Riding MP Chris Malette. These sessions offer businesses a private\, focused opportunity to raise issues\, ask questions and share real-world impacts of federal policy on day-to-day operations.\n\n\nWith evolving global trade conditions\, ongoing tariff discussions\, supply chain pressures\, and labour challenges\, these conversations offer an important forum to ensure local business perspectives are heard.\n\nThese sessions provide a direct channel for businesses to:\n\n\n	Discuss trade tariffs\, export barriers\, and cross border challenges\n	Ask questions about federal regulations\, compliance\, and legislation\n	Share concerns related to cost pressures\, inflation\, and supply chain reliability\n	Explore labour force solutions\, including immigration pathways and skills development programs\n	Learn about federal funding\, incentives\, and business support programs\n	Build relationships with your federal representative and contribute to informed decision making\n\n\n\n\nSpace is limited and available exclusively to Chamber Members!  Advance booking required.\n\n These conversations may also be used to develop policy resolutions for review by our Government Affairs Committee\, the Board of Directors\, and/or taken forward to the Ontario Chamber of Commerce.\n\nChoose your preference for time of day when registering.   \n\nMorning appointments:  10 am to 11:30 am\n\nAfternoon appointments:  11:45 to 1:00 pm\n\n\n\nDEADLINE to register:  Monday\, May 18th @ 12:00 noon.  \n\nWe will email you on Tuesday\, May 19th with your confirmed time slot.\n\nABOUT Chris Malette:\n\n \n\nEXCLUSIVE OPPORTUNITY for Chamber Members only.\n\nYou do not need to prepare anything formal - an open conversation is encouraged!
X-ALT-DESC;FMTTYPE=text/html:<span style="font-family:arial\;"><span style="font-size:16px\;"><strong>CHAMBER ACCESS SERIES:&nbsp\; One-on-One with MP Chris Malette</strong></span></span>\n<div style="color: rgb(0\, 0\, 0)\; font-family: &quot\;Segoe UI&quot\;\; font-size: 14px\; line-height: 20px\;">\n<p><span style="font-family:arial\;">Are<strong> federal trade policies\, tariffs\, workforce shortages</strong>\, or<strong> rising costs</strong> impacting your business? This is your direct line to <strong>Ottawa</strong>.</span></p>\n\n<p><span style="font-family:arial\;">As part of the Chamber Access Series\, members are invited to participate in a <strong>15&#8209\;minute one&#8209\;on&#8209\;one conversation</strong> with <strong>Bay of Quinte Riding MP Chris Malette</strong>. These sessions offer businesses a private\, focused opportunity to raise issues\, ask questions and share real-world impacts of federal policy on day-to-day operations.</span></p>\n\n<div style="color: rgb(0\, 0\, 0)\; font-family: &quot\;Segoe UI&quot\;\; font-size: 14px\; line-height: 20px\;">\n<p>With evolving global trade conditions\, ongoing tariff discussions\, supply&#8209\;chain pressures\, and labour challenges\, these conversations offer an important forum to ensure local business perspectives are heard.</p>\n\n<p><span style="font-family:arial\;">These sessions provide a direct channel for businesses to:</span></p>\n\n<ul>\n	<li><span style="font-family:arial\;">Discuss <strong>trade tariffs\, export barriers\, and cross&#8209\;border challenges</strong></span></li>\n	<li><span style="font-family:arial\;">Ask questions about <strong>federal regulations\, compliance\, and legislation</strong></span></li>\n	<li><span style="font-family:arial\;">Share concerns related to <strong>cost pressures</strong>\, inflation\, and supply&#8209\;chain reliability</span></li>\n	<li><span style="font-family:arial\;">Explore <strong>labour force solutions</strong>\, including immigration pathways and skills development programs</span></li>\n	<li><span style="font-family:arial\;">Learn about <strong>federal funding\, incentives\, and business support programs</strong></span></li>\n	<li><span style="font-family:arial\;">Build relationships with your <strong>federal representative</strong> and contribute to informed decision&#8209\;making</span></li>\n</ul>\n</div>\n</div>\n\n<p data-end="987" data-start="926"><span style="font-family:arial\;"><span style="font-size:14px\;"><span style="color:#FF0000\;"><strong data-end="987" data-start="926">Space is limited and available exclusively to Chamber Members!&nbsp\;&nbsp\;Advance booking required.</strong></span></span><br />\n<span style="font-size:14px\;"><em>&#8203\;<span style="color: rgb(68\, 68\, 68)\;">These conversations <u>may</u> also be used to develop policy resolutions for review by our Government Affairs Committee\, the Board of Directors\, and/or taken forward to the Ontario Chamber of Commerce.</span></em></span></span></p>\n\n<p data-end="987" data-start="926"><strong data-end="987" data-start="926"><span style="font-size:16px\;"><span style="font-family:arial\;"><span style="color:#FF0000\;">Choose your&nbsp\;preference for time of day&nbsp\;when registering.&nbsp\; &nbsp\;</span></span></span><br />\n<span style="font-size:14px\;">Morning appointments:&nbsp\; 10 am to 11:30 am<br />\nAfternoon appointments:&nbsp\; 11:45 to 1:00 pm</span><br />\n<br />\n<span style="color:#FF0000\;"><span style="font-size:16px\;">DEADLINE to register:&nbsp\; Monday\, May 18th @ 12:00 noon</span>.&nbsp\;&nbsp\;</span></strong><br />\nWe will email you on Tuesday\, May 19th with your confirmed time slot.</p>\n\n<p data-end="987" data-start="926"><strong>ABOUT Chris Malette:</strong><br />\n&nbsp\;</p>\n\n<p data-end="1020" data-start="989"><span style="font-family:verdana\;"><span style="font-size:16px\;"><span style="color:#FF0000\;"><strong><em data-end="1020" data-start="989">EXCLUSIVE OPPORTUNITY&nbsp\;for Chamber Members only.</em></strong></span></span><br />\nYou do not need to prepare anything formal - an open&nbsp\;conversation is encouraged!</span><br />\n&nbsp\;</p>\n<br />\n&nbsp\;
LOCATION:Quinte West Chamber of Commerce
UID:e.1862.2556
SEQUENCE:3
DTSTAMP:20260422T203808Z
URL:https://business.quintewestchamber.ca/events/details/15-minutes-with-your-mp-chris-malette-2556
END:VEVENT

END:VCALENDAR
