BEGIN:VCALENDAR
VERSION:2.0
PRODID:-//ChamberMaster//Event Calendar 2.0//EN
METHOD:PUBLISH
X-PUBLISHED-TTL:P3D
REFRESH-INTERVAL:P3D
CALSCALE:GREGORIAN
BEGIN:VEVENT
DTSTART:20190328T220000Z
DTEND:20190329T013000Z
X-MICROSOFT-CDO-ALLDAYEVENT:FALSE
SUMMARY:2019 Presidents Dinner & AGM
DESCRIPTION:President's Dinner & AGM\n\n\n\nThe Chamber Network : You're Part of Something Larger\n\n\n\nThe event will feature the presentation of the annual report\, full course dinner\, the awarding of the Honorary Life-Time Membership to Mark Phillips.\n\n\n\nThe event will be held at Occasions by the Bay.\n\n\n\nDinner Menu\n\n\n\nSalad: Mixed greens with blue cheese\, poached pears with apple vinaigrette\n\n\n\nMain Dish: Mixed Grill with Beef Short Rib & Seared Chicken breast. Served with garlic mashed potatoes & fresh vegteable with chausseur sauce\n\n\n\nDessert: Vanilla Bean creme brule
X-ALT-DESC;FMTTYPE=text/html:<span style="font-size:16px\;">President&#39\;s Dinner &amp\; AGM</span><br />\n<br />\nThe Chamber Network : You&#39\;re Part of Something Larger<br />\n<br />\nThe event will feature the presentation of the annual report\, full course dinner\, the awarding of the <strong>Honorary Life-Time Membership to Mark Phillips.</strong><br />\n<br />\nThe event will be held at Occasions by the Bay.<br />\n<br />\n<strong>Dinner Menu</strong><br />\n<br />\nSalad: Mixed greens with blue cheese\, poached pears with apple vinaigrette<br />\n<br />\nMain Dish: Mixed Grill with Beef Short Rib &amp\; Seared Chicken breast. Served with garlic mashed potatoes &amp\; fresh vegteable with chausseur sauce<br />\n<br />\nDessert: Vanilla Bean creme brule<br />\n<br />\n<br />\n&nbsp\;
LOCATION:Occasions by the Bay 980 Hwy 2 Bayside\, ON K8V 5P5
UID:e.1862.614
SEQUENCE:3
DTSTAMP:20260423T024708Z
URL:https://business.quintewestchamber.ca/events/details/2019-presidents-dinner-agm-614
END:VEVENT

END:VCALENDAR
